BEGIN:VCALENDAR
VERSION:2.0
PRODID:-//Squarespace Inc/Squarespace 6//v6//EN
BEGIN:VEVENT
UID:5bac16f3e4966bf003761f02@squarespace.com
DTSTAMP:20180928T023207Z
DTSTART:20190929T200000Z
DTEND:20191005T130000Z
SUMMARY:BALI RETREAT 2019
GEO:-8.372038;115.102584
LOCATION:Bali Mountain Retreat\, Mount Batukaru\, Bali\, Indonesia
END:VEVENT
END:VCALENDAR
