BEGIN:VCALENDAR
VERSION:2.0
PRODID:-//Squarespace Inc/Squarespace 6//v6//EN
BEGIN:VEVENT
UID:5bad4f27a4222f8d30c3bbda@squarespace.com
DTSTAMP:20180927T215500Z
DTSTART:20191006T200000Z
DTEND:20191013T130000Z
SUMMARY:BALI RETREAT 2019
GEO:40.720756;-74.000761
LOCATION:Bali Mountain Retreat\, Mount Batukaru\, Bali\, Indonesia
END:VEVENT
END:VCALENDAR
