BEGIN:VCALENDAR
VERSION:2.0
PRODID:-//Squarespace Inc/Squarespace 6//v6//EN
BEGIN:VEVENT
UID:5bac12ebec212d7e8e288a53@squarespace.com
DTSTAMP:20180928T023340Z
DTSTART:20180930T180000Z
DTEND:20181005T150000Z
SUMMARY:COOPERS BEACH YOGA RETREAT 2018
GEO:-34.99255;173.508168
LOCATION:Coopers Beach Christian Youth Camp\, Coopers Beach\, Northland\, N
 ew Zealand
END:VEVENT
END:VCALENDAR
